BEGIN:VCALENDAR
VERSION:2.0
PRODID:-//Okręgowa Rada Adwokacka w Warszawie - ECPv5.11.0//NONSGML v1.0//EN
CALSCALE:GREGORIAN
METHOD:PUBLISH
X-WR-CALNAME:Okręgowa Rada Adwokacka w Warszawie
X-ORIGINAL-URL:https://www.ora-warszawa.com.pl
X-WR-CALDESC:Wydarzenia dla Okręgowa Rada Adwokacka w Warszawie
BEGIN:VTIMEZONE
TZID:Europe/Warsaw
BEGIN:DAYLIGHT
TZOFFSETFROM:+0100
TZOFFSETTO:+0200
TZNAME:CEST
DTSTART:20250330T010000
END:DAYLIGHT
BEGIN:STANDARD
TZOFFSETFROM:+0200
TZOFFSETTO:+0100
TZNAME:CET
DTSTART:20251026T010000
END:STANDARD
END:VTIMEZONE
BEGIN:VEVENT
DTSTART;TZID=Europe/Warsaw:20250203T140000
DTEND;TZID=Europe/Warsaw:20250203T180000
DTSTAMP:20260424T154508
CREATED:20250115T105815Z
LAST-MODIFIED:20250115T110622Z
UID:132066-1738591200-1738605600@www.ora-warszawa.com.pl
SUMMARY:KDZ i Beck Akademia: Postępowanie sądowe o podział majątku wspólnego – problemy praktyczne
DESCRIPTION:Komi­sja Dosko­na­le­nia Zawo­do­wego Okrę­go­wej Rady Adwo­kac­kiej wraz z Beck Akademią zaprasza adwokatów i aplikantów adwokackich na szkolenie: \n„Postępowanie sądowe o podział majątku wspólnego – problemy praktyczne” \nPrelegent: SSO Grzegorz Karaś \nTermin: 3 lutego 2025 r.\, godz. 14.00-18.00 \nCena z rabatem 15%*: 637\,50 zł z VAT\n*cena z wyko­rzy­sta­niem aktu­al­nego kodu raba­to­wego\, dostęp­nego w Panelu Adwo­kata\, w zakładce „Bie­żące komu­ni­katy” – „Zniżka dla adwo­ka­tów – Aka­de­mia Beck” \nSzczegóły i rejestracja: https://akademia.beck.pl/1436-postepowanie-sadowe-o-podzial-majatku-wspolnego-problemy-praktyczne-?utm_source=ora-warszawa.com.pl&utm_medium=polecamy \nWykład będzie prowadzony na żywo za pośrednictwem platformy szkoleniowej (ClickMeeting albo Microsoft Teams). \nSerdecznie zapraszamy!
URL:https://www.ora-warszawa.com.pl/wydarzenie/kdz-i-beck-akademia-postepowanie-sadowe-o-podzial-majatku-wspolnego-problemy-praktyczne/
LOCATION:Platforma ClickMeeting
END:VEVENT
END:VCALENDAR