BEGIN:VCALENDAR
VERSION:2.0
PRODID:-//Okręgowa Rada Adwokacka w Warszawie - ECPv5.11.0//NONSGML v1.0//EN
CALSCALE:GREGORIAN
METHOD:PUBLISH
X-WR-CALNAME:Okręgowa Rada Adwokacka w Warszawie
X-ORIGINAL-URL:https://www.ora-warszawa.com.pl
X-WR-CALDESC:Wydarzenia dla Okręgowa Rada Adwokacka w Warszawie
BEGIN:VTIMEZONE
TZID:Europe/Warsaw
BEGIN:DAYLIGHT
TZOFFSETFROM:+0100
TZOFFSETTO:+0200
TZNAME:CEST
DTSTART:20230326T010000
END:DAYLIGHT
BEGIN:STANDARD
TZOFFSETFROM:+0200
TZOFFSETTO:+0100
TZNAME:CET
DTSTART:20231029T010000
END:STANDARD
END:VTIMEZONE
BEGIN:VEVENT
DTSTART;TZID=Europe/Warsaw:20230523T080000
DTEND;TZID=Europe/Warsaw:20230523T150000
DTSTAMP:20260424T103120
CREATED:20230522T064447Z
LAST-MODIFIED:20230522T064447Z
UID:119594-1684828800-1684854000@www.ora-warszawa.com.pl
SUMMARY:III Ogólnopolska konferencja naukowa Współczesne wyzwania prawa procesowego. Kierunki zmian postępowania cywilnego oraz karnego
DESCRIPTION:Zakład Postępowania Karnego\, Katedra Postępowania Cywilnego oraz Koło Naukowe Prawa Procesowego Wydziału Prawa i Administracji Uniwersytetu Warszawskiego mają zaszczyt zaprosić na III Ogólnopolską Konferencję Naukową „Współczesne wyzwania prawa procesowego – kierunki zmian postępowania cywilnego oraz karnego”. Konferencja odbędzie się 23 maja 2023 r. w godzinach 8:00-15:00 na Wydziale Prawa i Administracji Uniwersytetu Warszawskiego\, przy ul. Lipowej 4\, w auli A3. \nGłównym celem konferencji jest przedstawienie problemów prawnych w zakresie obu postępowań sądowych w ramach pięciu paneli o następujących zakresach tematycznych: \n\nInflacja normatywna w postępowaniu cywilnym/karnym.\nInformatyzacja postępowania cywilnego/karnego.\nInternacjonalizacja postępowania cywilnego/karnego.\nWpływ pandemii na postępowanie cywilne/karne.\nPolityzacja postępowania cywilnego/karnego.\n\nZapraszamy studentów\, absolwentów\, doktorantów\, osoby posiadające stopnie i tytuły naukowe oraz praktyków do uczestnictwa w konferencji. Wydarzenie ma charakter otwarty.  \nPrzewidywana jest transmisja wydarzenia na stronie Koła Naukowego Prawa Procesowego na Facebooku.\n \nZ radością informujemy\, że patronat nad wydarzeniem objął Dziekan Wydziału Prawa i Administracji Uniwersytetu Warszawskiego\, prof. Tomasz Giaro.\nZapraszamy do kontaktu za pośrednictwem strony Koła Naukowego Prawa Procesowego na Facebooku lub poprzez adres mailowy knpproces@wpia.uw.edu.pl. \nProgram konferencji
URL:https://www.ora-warszawa.com.pl/wydarzenie/iii-ogolnopolska-konferencja-naukowa-wspolczesne-wyzwania-prawa-procesowego-kierunki-zmian-postepowania-cywilnego-oraz-karnego/
CATEGORIES:Wydarzenia zewnętrzne
END:VEVENT
END:VCALENDAR