BEGIN:VCALENDAR
VERSION:2.0
PRODID:-//Okręgowa Rada Adwokacka w Warszawie - ECPv5.11.0//NONSGML v1.0//EN
CALSCALE:GREGORIAN
METHOD:PUBLISH
X-WR-CALNAME:Okręgowa Rada Adwokacka w Warszawie
X-ORIGINAL-URL:https://www.ora-warszawa.com.pl
X-WR-CALDESC:Wydarzenia dla Okręgowa Rada Adwokacka w Warszawie
BEGIN:VTIMEZONE
TZID:Europe/Warsaw
BEGIN:DAYLIGHT
TZOFFSETFROM:+0100
TZOFFSETTO:+0200
TZNAME:CEST
DTSTART:20220327T010000
END:DAYLIGHT
BEGIN:STANDARD
TZOFFSETFROM:+0200
TZOFFSETTO:+0100
TZNAME:CET
DTSTART:20221030T010000
END:STANDARD
END:VTIMEZONE
BEGIN:VEVENT
DTSTART;TZID=Europe/Warsaw:20220612T120000
DTEND;TZID=Europe/Warsaw:20220612T200000
DTSTAMP:20260424T135306
CREATED:20220609T111652Z
LAST-MODIFIED:20220609T111652Z
UID:55988-1655035200-1655064000@www.ora-warszawa.com.pl
SUMMARY:II Adwokacki Piknik Tenisowy dla dzieci i dorosłych
DESCRIPTION:Komisja Integracji Środowiskowej Kultury i Sportu serdecznie zaprasza wszystkich członków Izby na II Adwokacki Piknik Tenisowy dla dzieci i dorosłych.\nPiknik odbędzie się w niedzielę\, 12 czerwca br.\, w godz. 12:00-20:00 na kortach tenisowych Legia Tenis & Golf\, przy ul. Myśliwieckiej 4A we współpracy z Legia Warszawa S.A. oraz LEXUS Polska.\n \nImpreza skierowana jest głównie dla dzieci\, ale nie tylko grających w tenisa! Na kortach odbędą się liczne zabawy\, malowanie buziek\, kącik plastyczny\, zajęcia tańca i jogi. Bardzo serdecznie zapraszamy też dorosłych i mamy nadzieję\, że będzie to pierwsza okazja to spotkania towarzyskiego jakich nam teraz bardzo brakuje.  Sprzęt tenisowy dla dzieci będzie dostępny na miejscu. \n\nKorty tenisowe Legia Warszawa położone są blisko parku Agrykola. To duży teren sportowy z ośmioma boiskami do tenisa\, kortem centralnym i historycznymi trybunami. W lipcu na tych kortach odbędzie się międzynarodowy turniej tenisowy WTA z udziałem Igi Świątek.\n\n \nDostępne będą 4 korty\, na których każdy chętny będzie mógł zagrać\, oraz jeden trener koordynujący. Będzie możliwość testowania najnowszych rakiet marki HEAD. Planujemy też kilka meczów pokazowych z udziałem przedstawicieli naszej Izby wraz z trenerami Legia Tenis&Golf. \n\n\nPrzewidujemy zajęcia sportowe\, lekcje tenisa\, pizzę\, truskawki i prosecco jak to ma miejsce na turnieju na Wimbledonie. Każdy może wziąć też coś ze sobą!\n\nPlanujemy również kilka meczów pokazowych z udziałem adwokatów i aplikantów adwokackich wraz z trenerami Legia Tenis&Golf.\n\nWstęp wolny dla adwokatów\, aplikantów adwokackich i rodzin\, a także dla prawników ukraińskich.\nObowiązują zapisy dla dzieci przez formularz: https://forms.gle/TmeqnEiV6etwLXDb7\n \nAktualności można śledzić w wydarzeniu na FB:\nhttps://www.facebook.com/events/693545905068717 \nProsimy o zabranie obuwia sportowego\, które obowiązuje przy wejściu na kort. \n \nW przypadku dodatkowych pytań uprzejmie prosimy o dyskusję w wydarzeniu lub kontakt mailowy: adwokackipikniktenisowy@gmail.com\n\n\nCzekamy na Was w niedzielę. Zapowiada się piękna słoneczna niedziela. \n\nZ pozdrowieniami\,\n\nKomitet Organizacyjny\nadw. Monika Rajska\, Przewodnicząca Komisji Integracji Kultury i Sportu\nadw. Anisa Gnacikowska\, Członkini Naczelnej Rady Adwokackiej\, Honorowa Członkini Komisji\nadw. Katarzyna Majer-Gębska\napl. adw. Justyna Łusiak\napl. adw. Patrycja Łukasiewicz
URL:https://www.ora-warszawa.com.pl/wydarzenie/ii-adwokacki-piknik-tenisowy-dla-dzieci-i-doroslych/
CATEGORIES:ORA Warszawa
END:VEVENT
END:VCALENDAR