BEGIN:VCALENDAR
VERSION:2.0
PRODID:-//Okręgowa Rada Adwokacka w Warszawie - ECPv5.11.0//NONSGML v1.0//EN
CALSCALE:GREGORIAN
METHOD:PUBLISH
X-WR-CALNAME:Okręgowa Rada Adwokacka w Warszawie
X-ORIGINAL-URL:https://www.ora-warszawa.com.pl
X-WR-CALDESC:Wydarzenia dla Okręgowa Rada Adwokacka w Warszawie
BEGIN:VTIMEZONE
TZID:Europe/Warsaw
BEGIN:DAYLIGHT
TZOFFSETFROM:+0100
TZOFFSETTO:+0200
TZNAME:CEST
DTSTART:20220327T010000
END:DAYLIGHT
BEGIN:STANDARD
TZOFFSETFROM:+0200
TZOFFSETTO:+0100
TZNAME:CET
DTSTART:20221030T010000
END:STANDARD
END:VTIMEZONE
BEGIN:VEVENT
DTSTART;TZID=Europe/Warsaw:20221213T180000
DTEND;TZID=Europe/Warsaw:20221213T210000
DTSTAMP:20260424T154444
CREATED:20221125T132818Z
LAST-MODIFIED:20221125T133227Z
UID:68888-1670954400-1670965200@www.ora-warszawa.com.pl
SUMMARY:HR w świecie prawniczym – aplikant w poszukiwaniu pracy – V edycja!
DESCRIPTION:Wicedziekan ORA w Warszawie adw. dr Katarzyna Gajowniczek-Pruszyńska – pomysłodawczyni projektu\, Grafton Recruitment Poland oraz międzynarodowe kancelaria prawnicze: Dentons\, DLA Pipper\, CMS oraz Baker McKenzie serdecznie zapraszają aplikantów adwokackich oraz kandydatów na aplikantów\, którzy w tym roku zdali egzamin na aplikację\, na V. edycję szkolenia pt. „HR w świecie prawniczym – jak zdobyć pracę w renomowanej kancelarii?”. \n \nNie jest tajemnicą\, iż nawet najlepsze umiejętności fachowe aplikantów adwokackich są obecnie niewystarczające na konkurencyjnym rynku pracy. To za mało\, aby dostać pracę w renomowanej kancelarii. Potrzebne jest także „know how” z zakres procesów rekrutacji. \nO tym wszystkim\, co niezbędne w tym zakresie dowiecie się już na 5. Edycji warsztatów: HR w świecie prawniczym – jak zdobyć pracę w renomowanej kancelarii?”. \nWarsztaty odbędą się 13 grudnia br. w Okręgowej Radzie Adwokackiej w Warszawie Al. Ujazdowskie 49 – start o godzinie 18.00. \nSzkolenie obejmuje część teoretyczną prowadzoną przez uznanych ekspertów z zakresu rekrutacji z Grafton Recruitment Poland oraz praktyczną\, polegająca na prowadzeniu przez przedstawicieli międzynarodowych kancelarii: Dentons\, Baker McKenzie\, CMS Polska oraz DLA Piper symulowanych rozmów kwalifikacyjnych. \nSzkolenie będzie miało charakter stacjonarny. Obowiązują zapisy. \nLink do rejestracji powyżej. \nW tym roku wiedzą dzielić się będą specjaliści Grafton w składzie: \nJoanna Ciężkowska – Brand Manager Grafton Recruitment \nMateusz Skiba – Client Relationship Manager & Internal Trainer| Warsaw Permanent Recruitment \nNatalia Janusiak – Division Manager Temporary&Outsourcing \nMagdalena Niedziałek – Senior Recruitment Consultant & Internal Trainer | Warsaw Permanent Recruitment \nProgram warsztatów:\nI część – 18:00 – Rynek pracy – trendy – Joanna Ciężkowska \n– Oferty pracy – najskuteczniejsze sposoby nawiązania kontaktu z rekruterem\, w tym portale ogłoszeniowe \n– Social Media – profil zawodowy i prywatny \n  \nII część 18:30 – Przygotowanie do rozmowy kwalifikacyjnej – najlepsze praktyki – Mateusz Skiba \n– przygotowanie do rozmowy \n– przygotowanie CV \n  \nIII część -19:00 –  Rozmowa kwalifikacyjna – Magdalena Niedziałek i Natalia Janusiak \nMagdalena Niedziałek – 19:00: \n– Cele rozmowy \n– Scenariusz rozmowy \n– Przykładowe pytania \n– Skuteczne i wyczerpujące odpowiedzi \nNatalia Janusiak – 19:30: \n– Oczekiwania finansowe – jak rozmawiać o wynagrodzeniu \n– Jakie pytania warto zadać w trakcie rozmowy \n– Informacje zwrotne i oferta \n– Nowoczesne sposoby rekrutacji \n  \nIV część – 20.00 – Symulowane rozmowy kwalifikacyjne
URL:https://www.ora-warszawa.com.pl/wydarzenie/hr-w-swiecie-prawniczym-aplikant-w-poszukiwaniu-pracy-v-edycja/
LOCATION:ORA Warszawa\, Ujazdowskie 49\, Warszawa\, Mazowieckie\, 00-536\, Polska
CATEGORIES:ORA Warszawa
END:VEVENT
END:VCALENDAR