BEGIN:VCALENDAR
VERSION:2.0
PRODID:-//Okręgowa Rada Adwokacka w Warszawie - ECPv5.11.0//NONSGML v1.0//EN
CALSCALE:GREGORIAN
METHOD:PUBLISH
X-WR-CALNAME:Okręgowa Rada Adwokacka w Warszawie
X-ORIGINAL-URL:https://www.ora-warszawa.com.pl
X-WR-CALDESC:Wydarzenia dla Okręgowa Rada Adwokacka w Warszawie
BEGIN:VTIMEZONE
TZID:Europe/Warsaw
BEGIN:DAYLIGHT
TZOFFSETFROM:+0100
TZOFFSETTO:+0200
TZNAME:CEST
DTSTART:20220327T010000
END:DAYLIGHT
BEGIN:STANDARD
TZOFFSETFROM:+0200
TZOFFSETTO:+0100
TZNAME:CET
DTSTART:20221030T010000
END:STANDARD
END:VTIMEZONE
BEGIN:VEVENT
DTSTART;TZID=Europe/Warsaw:20220321T170000
DTEND;TZID=Europe/Warsaw:20220321T200000
DTSTAMP:20260424T121104
CREATED:20220317T105953Z
LAST-MODIFIED:20220317T105953Z
UID:54425-1647882000-1647892800@www.ora-warszawa.com.pl
SUMMARY:Debata: „Prawnicy na granicy – czy udzielanie pomocy humanitarnej może być przestępstwem?”
DESCRIPTION:Serdecznie zachęcamy do wzięcia udziału w debacie „Prawnicy na granicy – czy udzielanie pomocy humanitarnej może być przestępstwem?”\, która odbędzie się 21 marca 2022 roku o godz. 17.00 w formule online na platformie ZOOM. \n Organizatorem jest Naczelna Rada Adwokacka i Komisja Praw Człowieka przy NRA\, współorganizatorami zaś: Katedra Prawa Karnego UJ\, Stowarzyszenie Sędziów Polskich „Iustitia”\, Stowarzyszenie Sędziów „Themis” oraz Stowarzyszenie Prokuratorów „Lex Super Omnia”. \nDebata będzie miała przede wszystkim charakter ekspercki\, jest organizowana przez prawników dla prawników\, ale także dla aktywistów\, wolontariuszy i tych wszystkich\, którzy niosą pomoc humanitarną na granicy\, zwłaszcza w dobie kryzysu na pograniczu polsko-białoruskim oraz w dobie wojny w Ukrainie. Znamienici Prelegenci i Prelegentki\, będący wybitnymi prawnikami i prawniczkami\, przede wszystkim będą starali się odpowiedzieć na najczęściej zadawane pytania dotyczące kwestii legalności pomocy humanitarnej udzielanej migrantom oraz uchodźcom. \nZaproszenie do debaty zgodzili się przyjąć znamienici Prawnicy i Prawniczki: \n1) Adw. dr Katarzyna Gajowniczek-Pruszyńska\, Wicedziekan Okręgowej Rady Adwokackiej w Warszawie; \n2) SSR Joanna Hetnarowicz-Sikora\, Członkini Zarządu Stowarzyszenia Sędziów Polskich „Iustitia”; \n3) SSO Beata Morawiec\, Prezes Zarządu Stowarzyszeniem Sędziów „Themis”; \n4) Prof. dr hab. Włodzimierz Wróbel\, Kierownik Katedry Prawa Karnego UJ\, Sędzia Sądu Najwyższego; \n5) Prok. Mariusz Krasoń\, Wiceprezes Stowarzyszenia Prokuratorów „Lex Super Omnia”; \nDebatę moderować będą: \n1) Adw. Patrycja Dyluś-Borcz\, Członkini Komisji Praw Człowieka przy Naczelnej Radzie Adwokackiej; \n2) Adw. Magdalena Pająk\, Członkini Komisji Praw Człowieka przy Naczelnej Radzie Adwokackiej; \nPoczątek debaty o godz. 17.00 21 marca za pośrednictwem platformy Zoom. \nUdział po uprzedniej rejestracji. Link do rejestracji: https://zoom.us/…/tJAuc-ipqjwqGNaaopNmWQ4s_zvee_x7lds7 \nWydarzenie na Facebooku: \nhttps://www.facebook.com/events/1102988303819240?active_tab=about
URL:https://www.ora-warszawa.com.pl/wydarzenie/debata-prawnicy-na-granicy-czy-udzielanie-pomocy-humanitarnej-moze-byc-przestepstwem/
CATEGORIES:Wydarzenia zewnętrzne
END:VEVENT
END:VCALENDAR