BEGIN:VCALENDAR
VERSION:2.0
PRODID:-//Okręgowa Rada Adwokacka w Warszawie - ECPv5.11.0//NONSGML v1.0//EN
CALSCALE:GREGORIAN
METHOD:PUBLISH
X-WR-CALNAME:Okręgowa Rada Adwokacka w Warszawie
X-ORIGINAL-URL:https://www.ora-warszawa.com.pl
X-WR-CALDESC:Wydarzenia dla Okręgowa Rada Adwokacka w Warszawie
BEGIN:VTIMEZONE
TZID:Europe/Warsaw
BEGIN:DAYLIGHT
TZOFFSETFROM:+0100
TZOFFSETTO:+0200
TZNAME:CEST
DTSTART:20230326T010000
END:DAYLIGHT
BEGIN:STANDARD
TZOFFSETFROM:+0200
TZOFFSETTO:+0100
TZNAME:CET
DTSTART:20231029T010000
END:STANDARD
END:VTIMEZONE
BEGIN:VEVENT
DTSTART;TZID=Europe/Warsaw:20230323T170000
DTEND;TZID=Europe/Warsaw:20230323T190000
DTSTAMP:20260424T121105
CREATED:20230321T090657Z
LAST-MODIFIED:20230321T090657Z
UID:117765-1679590800-1679598000@www.ora-warszawa.com.pl
SUMMARY:Adwokat w internecie z perspektywy odpowiedzialności dyscyplinarnej
DESCRIPTION:Komisja do spraw wsparcia w wykonywaniu zawodu serdecznie zaprasza na spotkanie on-line: Adwokat w internecie z perspektywy odpowiedzialności dyscyplinarnej\, które odbędzie się 23 marca 2023 r. (czwartek) w godz. 17.00– 19.00 na platformie Zoom. \nSpotkanie poprowadzi adw. dr Katarzyna Gajowniczek – Pruszyńska\, wicedziekan Okręgowej Rady Adwokackiej w Warszawie wraz z adw. Anną Miką-Kozak\, rzecznik dyscyplinarną Izby Adwokackiej w Warszawie oraz adw. Łukaszem Wiśniewskim\, zastępcą rzecznik dyscyplinarnej. Moderatorką dyskusji będzie adw. Joanna Tkaczyk – Lipnicka\, Przewodnicząca Komisji ds. wsparcia w wykonywaniu zawodu. \nSpotkanie będzie okazją do omówienia praktycznych aspektów wykonywania zawodu adwokata w świecie nowych technologii oraz do dyskusji na temat pytań i wątpliwości dotyczących wykonywania zawodu\, jakie kierowane są do ORA Warszawa\, szczególnie zakazu reklamy. \nW celu udziału w spotkaniu prosimy o rejestrację pod linkiem\nhttps://ora-warszawa-pl.zoom.us/meeting/register/tJwvfu6urzwsGtH_OB9r29VjiYW2EhvahfiI \nZa udział w szkoleniu można otrzymać 2 pkt doskonalenia zawodowego. \nZachęcamy również do kierowania pytań i propozycji zagadnień\, o których chcieliby Państwo porozmawiać podczas takiego spotkania na adres mailowy Przewodniczącej Komisji:\njoanna.tkaczyk@ora-warszawa.com.pl \nSerdecznie zapraszamy! \nadw. Joanna Tkaczyk-Lipnicka\nPrzewodnicząca Komisji ds. wsparcia w wykonywaniu zawodu
URL:https://www.ora-warszawa.com.pl/wydarzenie/adwokat-w-internecie-z-perspektywy-odpowiedzialnosci-dyscyplinarnej/
CATEGORIES:ORA Warszawa
END:VEVENT
END:VCALENDAR