BEGIN:VCALENDAR
VERSION:2.0
PRODID:-//Okręgowa Rada Adwokacka w Warszawie - ECPv5.11.0//NONSGML v1.0//EN
CALSCALE:GREGORIAN
METHOD:PUBLISH
X-WR-CALNAME:Okręgowa Rada Adwokacka w Warszawie
X-ORIGINAL-URL:https://www.ora-warszawa.com.pl
X-WR-CALDESC:Wydarzenia dla Okręgowa Rada Adwokacka w Warszawie
BEGIN:VTIMEZONE
TZID:Europe/Warsaw
BEGIN:DAYLIGHT
TZOFFSETFROM:+0100
TZOFFSETTO:+0200
TZNAME:CEST
DTSTART:20240331T010000
END:DAYLIGHT
BEGIN:STANDARD
TZOFFSETFROM:+0200
TZOFFSETTO:+0100
TZNAME:CET
DTSTART:20241027T010000
END:STANDARD
END:VTIMEZONE
BEGIN:VEVENT
DTSTART;TZID=Europe/Warsaw:20240820T140000
DTEND;TZID=Europe/Warsaw:20240820T180000
DTSTAMP:20260424T165957
CREATED:20240704T201735Z
LAST-MODIFIED:20240704T201806Z
UID:128139-1724162400-1724176800@www.ora-warszawa.com.pl
SUMMARY:Szkolenie KDZ i Beck Akademii: Od pozwu do wyroku – postę­po­wa­nie przed sądem I instan­cji 2024
DESCRIPTION:Komi­sja Dosko­na­le­nia Zawo­do­wego przy Okrę­go­wej Radzie Adwo­kac­kiej w War­sza­wie wraz z Beck Aka­de­mią zapra­sza na szko­le­nie dla adwo­ka­tów i apli­kan­tów adwo­kac­kich: \n„Od pozwu do wyroku – postę­po­wa­nie przed sądem I instan­cji 2024”.  \nPre­le­gent: SSO Grze­gorz Karaś \nTer­min: 20 sierp­nia 2024 r.\, godz. 14.00–18.00 \nCena z raba­tem 15%*: 586\,50 zł z VAT \n*cena z wyko­rzy­sta­niem aktu­al­nego kodu raba­to­wego\, dostęp­nego w Panelu Adwo­kata\, w zakładce Bie­żące komu­ni­katy – „Zniżka dla adwo­ka­tów – Aka­de­mia Beck” \nSzcze­góły i reje­stra­cja: link \nWykład będzie pro­wa­dzony na żywo za pośred­nic­twem plat­formy szko­le­nio­wej (Clic­kMe­eting albo Micro­soft Teams). \nSer­decz­nie zapra­szamy!
URL:https://www.ora-warszawa.com.pl/wydarzenie/128139/
CATEGORIES:Komisja Doskonalenia Zawodowego
END:VEVENT
END:VCALENDAR